BEGIN:VCALENDAR
VERSION:2.0
PRODID:-//TuS Wunstorf Tennisabteilung - ECPv6.15.20//NONSGML v1.0//EN
CALSCALE:GREGORIAN
METHOD:PUBLISH
X-WR-CALNAME:TuS Wunstorf Tennisabteilung
X-ORIGINAL-URL:https://tus-tennis.de
X-WR-CALDESC:Veranstaltungen für TuS Wunstorf Tennisabteilung
REFRESH-INTERVAL;VALUE=DURATION:PT1H
X-Robots-Tag:noindex
X-PUBLISHED-TTL:PT1H
BEGIN:VTIMEZONE
TZID:Europe/Berlin
BEGIN:DAYLIGHT
TZOFFSETFROM:+0100
TZOFFSETTO:+0200
TZNAME:CEST
DTSTART:20250330T010000
END:DAYLIGHT
BEGIN:STANDARD
TZOFFSETFROM:+0200
TZOFFSETTO:+0100
TZNAME:CET
DTSTART:20251026T010000
END:STANDARD
BEGIN:DAYLIGHT
TZOFFSETFROM:+0100
TZOFFSETTO:+0200
TZNAME:CEST
DTSTART:20260329T010000
END:DAYLIGHT
BEGIN:STANDARD
TZOFFSETFROM:+0200
TZOFFSETTO:+0100
TZNAME:CET
DTSTART:20261025T010000
END:STANDARD
BEGIN:DAYLIGHT
TZOFFSETFROM:+0100
TZOFFSETTO:+0200
TZNAME:CEST
DTSTART:20270328T010000
END:DAYLIGHT
BEGIN:STANDARD
TZOFFSETFROM:+0200
TZOFFSETTO:+0100
TZNAME:CET
DTSTART:20271031T010000
END:STANDARD
END:VTIMEZONE
BEGIN:VEVENT
DTSTART;TZID=Europe/Berlin:20260613T090000
DTEND;TZID=Europe/Berlin:20260613T170000
DTSTAMP:20260419T164157
CREATED:20260405T092652Z
LAST-MODIFIED:20260405T093341Z
UID:10331-1781341200-1781370000@tus-tennis.de
SUMMARY:Punktspielbetreuung Juniorinnen C
DESCRIPTION:Arbeitseinsatz Punktspiel betreuen\, helfen beim Zählen
URL:https://tus-tennis.de/event/punktspielbetreuung-juniorinnen-c-2/
LOCATION:TuS Wunstorf Tennisabteilung\, TuS Wunstorf Tennisabteilung\, Wunstorf\, 31515\, Deutschland
CATEGORIES:Arbeitsdienst,Arbeitseinsatz
ATTACH;FMTTYPE=image/jpeg:https://tus-tennis.de/wp-content/uploads/2026/01/IMG_6352.jpg
END:VEVENT
BEGIN:VEVENT
DTSTART;TZID=Europe/Berlin:20260613T110000
DTEND;TZID=Europe/Berlin:20260613T170000
DTSTAMP:20260419T164157
CREATED:20260405T093024Z
LAST-MODIFIED:20260405T093024Z
UID:10335-1781348400-1781370000@tus-tennis.de
SUMMARY:Punktspielbetreuung Junioren C
DESCRIPTION:Arbeitseinsatz Punktspielbetreuung\, Helfen beim Zählen
URL:https://tus-tennis.de/event/punktspielbetreuung-junioren-c/
LOCATION:TuS Wunstorf Tennisabteilung\, TuS Wunstorf Tennisabteilung\, Wunstorf\, 31515\, Deutschland
CATEGORIES:Arbeitsdienst,Arbeitseinsatz
ATTACH;FMTTYPE=image/jpeg:https://tus-tennis.de/wp-content/uploads/2026/01/IMG_0794.jpg
END:VEVENT
BEGIN:VEVENT
DTSTART;TZID=Europe/Berlin:20260627T090000
DTEND;TZID=Europe/Berlin:20260627T170000
DTSTAMP:20260419T164157
CREATED:20260405T093224Z
LAST-MODIFIED:20260405T093234Z
UID:10339-1782550800-1782579600@tus-tennis.de
SUMMARY:Punktspielbetreuung Junioren U 10
DESCRIPTION:Arbeitseinsatz Punktspiel betreuen\, Linien aufbauen\, helfen beim Zählen.
URL:https://tus-tennis.de/event/punktpsielbetreuung-junioren-u-10/
LOCATION:TuS Wunstorf Tennisabteilung\, TuS Wunstorf Tennisabteilung\, Wunstorf\, 31515\, Deutschland
CATEGORIES:Arbeitsdienst,Arbeitseinsatz
ATTACH;FMTTYPE=image/jpeg:https://tus-tennis.de/wp-content/uploads/2026/01/IMG_9524.jpg
END:VEVENT
END:VCALENDAR