BEGIN:VCALENDAR
VERSION:2.0
PRODID:-//TuS Wunstorf Tennisabteilung - ECPv6.15.20//NONSGML v1.0//EN
CALSCALE:GREGORIAN
METHOD:PUBLISH
X-WR-CALNAME:TuS Wunstorf Tennisabteilung
X-ORIGINAL-URL:https://tus-tennis.de
X-WR-CALDESC:Veranstaltungen für TuS Wunstorf Tennisabteilung
REFRESH-INTERVAL;VALUE=DURATION:PT1H
X-Robots-Tag:noindex
X-PUBLISHED-TTL:PT1H
BEGIN:VTIMEZONE
TZID:Europe/Berlin
BEGIN:DAYLIGHT
TZOFFSETFROM:+0100
TZOFFSETTO:+0200
TZNAME:CEST
DTSTART:20250330T010000
END:DAYLIGHT
BEGIN:STANDARD
TZOFFSETFROM:+0200
TZOFFSETTO:+0100
TZNAME:CET
DTSTART:20251026T010000
END:STANDARD
BEGIN:DAYLIGHT
TZOFFSETFROM:+0100
TZOFFSETTO:+0200
TZNAME:CEST
DTSTART:20260329T010000
END:DAYLIGHT
BEGIN:STANDARD
TZOFFSETFROM:+0200
TZOFFSETTO:+0100
TZNAME:CET
DTSTART:20261025T010000
END:STANDARD
BEGIN:DAYLIGHT
TZOFFSETFROM:+0100
TZOFFSETTO:+0200
TZNAME:CEST
DTSTART:20270328T010000
END:DAYLIGHT
BEGIN:STANDARD
TZOFFSETFROM:+0200
TZOFFSETTO:+0100
TZNAME:CET
DTSTART:20271031T010000
END:STANDARD
END:VTIMEZONE
BEGIN:VEVENT
DTSTART;TZID=Europe/Berlin:20260704T120000
DTEND;TZID=Europe/Berlin:20260704T170000
DTSTAMP:20260419T181730
CREATED:20260405T103755Z
LAST-MODIFIED:20260405T103755Z
UID:10349-1783166400-1783184400@tus-tennis.de
SUMMARY:Integrtives Sommer fest des TuS Wunstorf
DESCRIPTION:Am 04.07.26 findet das Integrative Sommerfest des TuS Wunstorf im Barnestadion statt. Hierfür wird sich auch die Tennisabteilung mit einer kleinen Aktion beteiligen. Beispielsweise sollen die Teilnehmerinnen und Teilnehmer mit Kleinfeldnetzen erste Berührungspunkte mit Tennis erhalten. Wer dies betreuen möchte (auch ohne Trainererfahrung) kann sich unten zum Arbeitseinsatz anmelden.
URL:https://tus-tennis.de/event/integrtives-sommer-fest-des-tus-wunstorf/
CATEGORIES:Allgemein,Arbeitsdienst
ATTACH;FMTTYPE=image/jpeg:https://tus-tennis.de/wp-content/uploads/2026/01/IMG_0533.jpg
END:VEVENT
END:VCALENDAR