BEGIN:VCALENDAR
VERSION:2.0
PRODID:-//TuS Wunstorf Tennisabteilung - ECPv6.15.20//NONSGML v1.0//EN
CALSCALE:GREGORIAN
METHOD:PUBLISH
X-ORIGINAL-URL:https://tus-tennis.de
X-WR-CALDESC:Veranstaltungen für TuS Wunstorf Tennisabteilung
REFRESH-INTERVAL;VALUE=DURATION:PT1H
X-Robots-Tag:noindex
X-PUBLISHED-TTL:PT1H
BEGIN:VTIMEZONE
TZID:Europe/Berlin
BEGIN:DAYLIGHT
TZOFFSETFROM:+0100
TZOFFSETTO:+0200
TZNAME:CEST
DTSTART:20250330T010000
END:DAYLIGHT
BEGIN:STANDARD
TZOFFSETFROM:+0200
TZOFFSETTO:+0100
TZNAME:CET
DTSTART:20251026T010000
END:STANDARD
BEGIN:DAYLIGHT
TZOFFSETFROM:+0100
TZOFFSETTO:+0200
TZNAME:CEST
DTSTART:20260329T010000
END:DAYLIGHT
BEGIN:STANDARD
TZOFFSETFROM:+0200
TZOFFSETTO:+0100
TZNAME:CET
DTSTART:20261025T010000
END:STANDARD
BEGIN:DAYLIGHT
TZOFFSETFROM:+0100
TZOFFSETTO:+0200
TZNAME:CEST
DTSTART:20270328T010000
END:DAYLIGHT
BEGIN:STANDARD
TZOFFSETFROM:+0200
TZOFFSETTO:+0100
TZNAME:CET
DTSTART:20271031T010000
END:STANDARD
END:VTIMEZONE
BEGIN:VEVENT
DTSTART;TZID=Europe/Berlin:20260912T080000
DTEND;TZID=Europe/Berlin:20260912T170000
DTSTAMP:20260419T214418
CREATED:20260405T104105Z
LAST-MODIFIED:20260405T104124Z
UID:10354-1789200000-1789232400@tus-tennis.de
SUMMARY:Betreuung Stadtmeisterschaften Jugend
DESCRIPTION:Am 12. September 2026 finden die Stadtmeisterschaften Jugend beim TSV Luthe statt. Gegebenenfalls werden auch einige Spiele beim TuS Wunstorf ausgetragen. Somit kann ein Arbeitseinsatz geleistet werden\, bei dem zum Beispiel beim Zählen oder der Bewirtung geholfen wird.
URL:https://tus-tennis.de/event/betreuung-stadtmeisterschaften-jugend/
LOCATION:TSV Luthe\, Bünteweg\, Wunstorf\, 31515
CATEGORIES:Allgemein,Arbeitsdienst,Turnier
ATTACH;FMTTYPE=image/jpeg:https://tus-tennis.de/wp-content/uploads/2026/01/IMG_8657.jpg
END:VEVENT
END:VCALENDAR