BEGIN:VCALENDAR
VERSION:2.0
PRODID:-//TuS Wunstorf Tennisabteilung - ECPv6.15.20//NONSGML v1.0//EN
CALSCALE:GREGORIAN
METHOD:PUBLISH
X-WR-CALNAME:TuS Wunstorf Tennisabteilung
X-ORIGINAL-URL:https://tus-tennis.de
X-WR-CALDESC:Veranstaltungen für TuS Wunstorf Tennisabteilung
REFRESH-INTERVAL;VALUE=DURATION:PT1H
X-Robots-Tag:noindex
X-PUBLISHED-TTL:PT1H
BEGIN:VTIMEZONE
TZID:Europe/Berlin
BEGIN:DAYLIGHT
TZOFFSETFROM:+0100
TZOFFSETTO:+0200
TZNAME:CEST
DTSTART:20250330T010000
END:DAYLIGHT
BEGIN:STANDARD
TZOFFSETFROM:+0200
TZOFFSETTO:+0100
TZNAME:CET
DTSTART:20251026T010000
END:STANDARD
BEGIN:DAYLIGHT
TZOFFSETFROM:+0100
TZOFFSETTO:+0200
TZNAME:CEST
DTSTART:20260329T010000
END:DAYLIGHT
BEGIN:STANDARD
TZOFFSETFROM:+0200
TZOFFSETTO:+0100
TZNAME:CET
DTSTART:20261025T010000
END:STANDARD
BEGIN:DAYLIGHT
TZOFFSETFROM:+0100
TZOFFSETTO:+0200
TZNAME:CEST
DTSTART:20270328T010000
END:DAYLIGHT
BEGIN:STANDARD
TZOFFSETFROM:+0200
TZOFFSETTO:+0100
TZNAME:CET
DTSTART:20271031T010000
END:STANDARD
END:VTIMEZONE
BEGIN:VEVENT
DTSTART;TZID=Europe/Berlin:20260530T100000
DTEND;TZID=Europe/Berlin:20260530T170000
DTSTAMP:20260423T151354
CREATED:20260405T092441Z
LAST-MODIFIED:20260405T093428Z
UID:10327-1780135200-1780160400@tus-tennis.de
SUMMARY:Punktspielbetreuung Junioren U10
DESCRIPTION:Die Herren 40 spielen eine nahezu makellose Saison und sichern sich zurecht den Aufstieg in den Bezirk. Mit einer 10:0 Punktebilanz lassen sie nichts anbrennen. Eine Saison\, die sich bis zum letzten Spieltag zugespitzt hat\, findet mit der Begegnung mit Helstorf einen würdigen Abschluss. Mit einem 6:0 bleiben alle Heimspiele über die Saison hinweg ohne Matchverlust\, was die Heimstärke unter Beweis stellt. Wir gratulieren Björn Kuckuck\, Sven Krüger\, Claas Schreibmüller\, Sören Tuleweit\, Jens Winkel\, Christian Beetz und Mirko Schäfer zur herausragenden Saison.  Glückwunsch!
URL:https://tus-tennis.de/event/punktspielbetreuung-junioren-u10/
LOCATION:TuS Wunstorf Tennisabteilung\, TuS Wunstorf Tennisabteilung\, Wunstorf\, 31515\, Deutschland
CATEGORIES:Arbeitsdienst,Arbeitseinsatz
ATTACH;FMTTYPE=image/jpeg:https://tus-tennis.de/wp-content/uploads/2026/01/IMG_6398.jpg
END:VEVENT
END:VCALENDAR